BEGIN:VCALENDAR
VERSION:2.0
PRODID:-//hacksw/handcal//NONSGML v1.0//EN
BEGIN:VEVENT
X-WR-TIMEZONE:Europe/Paris
DTSTART:20240320T010000Z
DTEND:20240320T010000Z
SUMMARY:7ÈME JOURNÉE ANNUELLE SHM DE LA COFREND 
LOCATION:Le 20/03
Université De BORDEAUX
DESCRIPTION:https://www.cofrend.com/jcms/prd_917436/en/7eme-journee-annuelle-de-la-cofrend-bordeaux-le-20-mars-2024?eventId=prd_917436&amp;newsId=null
END:VEVENT
END:VCALENDAR
